BEGIN:VCALENDAR
VERSION:2.0
PRODID:-//Lodi District Grape Growers - ECPv5.0.0.2//NONSGML v1.0//EN
CALSCALE:GREGORIAN
METHOD:PUBLISH
X-WR-CALNAME:Lodi District Grape Growers
X-ORIGINAL-URL:https://ldgga.org
X-WR-CALDESC:Events for Lodi District Grape Growers
BEGIN:VTIMEZONE
TZID:America/Los_Angeles
BEGIN:DAYLIGHT
TZOFFSETFROM:-0800
TZOFFSETTO:-0700
TZNAME:PDT
DTSTART:20240310T100000
END:DAYLIGHT
BEGIN:STANDARD
TZOFFSETFROM:-0700
TZOFFSETTO:-0800
TZNAME:PST
DTSTART:20241103T090000
END:STANDARD
END:VTIMEZONE
BEGIN:VEVENT
DTSTART;TZID=America/Los_Angeles:20240605T090000
DTEND;TZID=America/Los_Angeles:20240605T100000
DTSTAMP:20260420T145309
CREATED:20240530T165820Z
LAST-MODIFIED:20240530T165820Z
UID:8295-1717578000-1717581600@ldgga.org
SUMMARY:Rural Crime Roundtable
DESCRIPTION:Attendees will have an opportunity to meet and hear from the San Joaquin County and Sacramento County Sheriffs representatives. Discussions will include trends in rural/agricultural crime\, crime prevention and reporting\, and more. Dialogue is encouraged\, so bring your questions! \n
URL:https://ldgga.org/event/rural-crime-roundtable-3/
LOCATION:Lodi Grape Festival Grounds\, Burgundy Hall\, 413 E. Lockeford St.\, Lodi\, CA\, 95240\, United States
END:VEVENT
END:VCALENDAR