BEGIN:VCALENDAR
VERSION:2.0
PRODID:-//Lodi District Grape Growers - ECPv5.0.0.2//NONSGML v1.0//EN
CALSCALE:GREGORIAN
METHOD:PUBLISH
X-WR-CALNAME:Lodi District Grape Growers
X-ORIGINAL-URL:https://ldgga.org
X-WR-CALDESC:Events for Lodi District Grape Growers
BEGIN:VTIMEZONE
TZID:America/Los_Angeles
BEGIN:DAYLIGHT
TZOFFSETFROM:-0800
TZOFFSETTO:-0700
TZNAME:PDT
DTSTART:20230312T100000
END:DAYLIGHT
BEGIN:STANDARD
TZOFFSETFROM:-0700
TZOFFSETTO:-0800
TZNAME:PST
DTSTART:20231105T090000
END:STANDARD
END:VTIMEZONE
BEGIN:VEVENT
DTSTART;TZID=America/Los_Angeles:20231102T113000
DTEND;TZID=America/Los_Angeles:20231102T133000
DTSTAMP:20260420T235200
CREATED:20231005T200347Z
LAST-MODIFIED:20231005T200347Z
UID:7754-1698924600-1698931800@ldgga.org
SUMMARY:LDGGA Post-Harvest Lunch
DESCRIPTION:Join us for Lodi District Grape Growers Association’s Membership Appreciation Lunch on Thursday\, November 2 at 11:30 am the Lodi Grape Festival Grounds. The event will include a catered lunch\, Lodi wines\, and an opportunity to connect with fellow growers\, associated businesses\, and community leaders as we celebrate the culmination of the harvest season. \nThe event is free for LDGGA Grower and Associate members. \nRSVP to LDGGA by email at info@ldgga.org or call or text (209) 339-8246. \nSponsorship opportunities are available. \n
URL:https://ldgga.org/event/ldgga-post-harvest-lunch/
LOCATION:Lodi Grape Festival Grounds\, 413 E. Lockeford St.\, Lodi\, CA
END:VEVENT
END:VCALENDAR