BEGIN:VCALENDAR
VERSION:2.0
PRODID:-//Lodi District Grape Growers - ECPv5.0.0.2//NONSGML v1.0//EN
CALSCALE:GREGORIAN
METHOD:PUBLISH
X-WR-CALNAME:Lodi District Grape Growers
X-ORIGINAL-URL:https://ldgga.org
X-WR-CALDESC:Events for Lodi District Grape Growers
BEGIN:VTIMEZONE
TZID:America/Los_Angeles
BEGIN:DAYLIGHT
TZOFFSETFROM:-0800
TZOFFSETTO:-0700
TZNAME:PDT
DTSTART:20220313T100000
END:DAYLIGHT
BEGIN:STANDARD
TZOFFSETFROM:-0700
TZOFFSETTO:-0800
TZNAME:PST
DTSTART:20221106T090000
END:STANDARD
END:VTIMEZONE
BEGIN:VEVENT
DTSTART;TZID=America/Los_Angeles:20220427T080000
DTEND;TZID=America/Los_Angeles:20220427T090000
DTSTAMP:20260423T191408
CREATED:20220411T170618Z
LAST-MODIFIED:20220411T170634Z
UID:6736-1651046400-1651050000@ldgga.org
SUMMARY:Breakfast Meeting: Drought Executive Order
DESCRIPTION:Governor Newsom’s recent Executive Order (N-7-22\, 03/28/22) seeks to address California’s extreme and expanding drought conditions. How could this impact you? Join LDGGA for a breakfast meeting to hear from local water experts on how this will impact growers and landowners. \nCoffee and pastries will be served.\n﻿RSVP to info@ldgga.org or (209) 339-8246 \n
URL:https://ldgga.org/event/breakfast-meeting-drought-executive-order/
LOCATION:Lodi Grape Festival Grounds\, Burgundy Hall\, 413 E. Lockeford St.\, Lodi\, CA\, 95240\, United States
END:VEVENT
END:VCALENDAR